BEGIN:VCALENDAR
VERSION:2.0
PRODID:-//wp-events-plugin.com//7.2.3.1//EN
BEGIN:VEVENT
UID:68@orcadianwildlife.co.uk
DTSTART;VALUE=DATE:20180428
DTEND;VALUE=DATE:20180505
DTSTAMP:20180216T105801Z
URL:https://orcadianwildlife.co.uk/wPress/wildlife-tour-bookings/ultimate-
 orkney/
SUMMARY:ULTIMATE ORKNEY
DESCRIPTION:This is a Shetland Wildlife Tour with Steve as its leader:\n\nT
 he archipelago of Orkney forms a complex jigsaw of land and water. Her fer
 tility gives rise to a wealth of wildlife - particularly birds. Red-throat
 ed Divers on the small lochans\, Hen Harriers and Short-eared Owls on the 
 moors and an abundance of seabirds and seaduck around the pristine coastli
 ne. By popular demand we bring you this ultimate Orkney holiday…\n\nTHIS
  TOUR IS NOW FULL.\n\nFor further details and an itinerary click:  shetla
 ndwildlife.co.uk\n\nfor bookings contact info@shetlandwildlife.co.uk
END:VEVENT
END:VCALENDAR