BEGIN:VCALENDAR
VERSION:2.0
PRODID:-//wp-events-plugin.com//7.2.3.1//EN
BEGIN:VEVENT
UID:62@orcadianwildlife.co.uk
DTSTART:20170429T000000Z
DTEND:20170505T000000Z
DTSTAMP:20161124T131623Z
URL:https://orcadianwildlife.co.uk/wPress/wildlife-tour-bookings/ultimate-
 orkney-shetland-wildlife/
SUMMARY:Ultimate Orkney (Shetland Wildlife)
DESCRIPTION:Tour of Orkney run by Shetland Wildlife departing Aberdeen Satu
 rday 29 April - returning to Aberdeen Friday 5 May: tour leader Steve San
 key. The archipelago of Orkney forms a complex jigsaw of land and water. H
 er fertility gives rise to a wealth of wildlife particularly birds. Red-th
 roated Divers on the small lochans\, Hen Harriers and Short-eared Owls on 
 the moors and an abundance of seabirds and seaduck around the pristine coa
 stline. By popular demand we bring you this very popular Ultimate Orkney h
 oliday. All enquiries to Shetland Wildlife. Cost £1\,395 single supplemen
 t £175. THIS TOUR IS NOW FULL.
END:VEVENT
END:VCALENDAR