BEGIN:VCALENDAR
VERSION:2.0
PRODID:-//wp-events-plugin.com//7.2.3.1//EN
BEGIN:VEVENT
UID:44@orcadianwildlife.co.uk
DTSTART;VALUE=DATE:20160430
DTEND;VALUE=DATE:20160508
DTSTAMP:20160203T140237Z
URL:https://orcadianwildlife.co.uk/wPress/wildlife-tour-bookings/ultimate-
 orkney-shetland-wildlife-tour/
SUMMARY:Ultimate Orkney: Shetland Wildlife Tour
DESCRIPTION:Ultimate Orkney: Shetland Wildlife Tour starting Saturday 30 Ap
 ril – Saturday 7 May 2016– leader Steve Sankey. The archipelago of Ork
 ney forms a complex jigsaw of land and water. Her fertility gives rise to 
 a wealth of wildlife - particularly birds. Red-throated Divers on the smal
 l lochans\, Hen Harriers and Short-eared Owls on the moors and an abundanc
 e of seabirds and seaduck around the pristine coastline. By popular demand
  we bring you this ultimate Orkney holiday…for further details and to bo
 ok see www.shetlandwildlife.co.uk/holidays/wildlife.htm\n\nNote that the a
 ccommodation is provided by the Merkister Hotel\, and the departure and fi
 nishing point for this tour is Aberdeen. THIS TOUR IS NOW FULL.
END:VEVENT
END:VCALENDAR