BEGIN:VCALENDAR
VERSION:2.0
PRODID:-//wp-events-plugin.com//7.2.3.1//EN
BEGIN:VEVENT
UID:88@orcadianwildlife.co.uk
DTSTART;VALUE=DATE:20220423
DTEND;VALUE=DATE:20220430
DTSTAMP:20220118T171658Z
URL:https://orcadianwildlife.co.uk/wPress/wildlife-tour-bookings/ultimate-
 orkney-shetland-wildlife-tour-25-april-2-may-2020/
SUMMARY:Ultimate Orkney (Shetland Wildlife Tour): 23 - 29 April 2022
DESCRIPTION:I've been pleased to lead this tour on behalf of Shetland Wildl
 ife in Orkney for many years now\, and we always see lots and visit many p
 laces! It's early in the season and the birds are at their stunning best!\
 n\nIn the words of Shetland Wildlife\, "The archipelago of Orkney forms a 
 complex jigsaw of land and water. Her fertility gives rise to a wealth of 
 wildlife - particularly birds. Red-throated Divers on the small lochans\, 
 Hen Harriers and Short-eared Owls on the moors and an abundance of seabird
 s and seaduck around the pristine coastline. By popular demand we bring yo
 u this ultimate Orkney holiday…"\n\nThis Tour is now FULL.\n\nALL ENQUIR
 IES TO SHETLAND WILDLIFE: CLICK HERE. Group size 8.
END:VEVENT
END:VCALENDAR