BEGIN:VCALENDAR
VERSION:2.0
PRODID:-//wp-events-plugin.com//7.2.3.1//EN
BEGIN:VEVENT
UID:80@orcadianwildlife.co.uk
DTSTART;VALUE=DATE:20190427
DTEND;VALUE=DATE:20190504
DTSTAMP:20190110T172910Z
URL:https://orcadianwildlife.co.uk/wPress/wildlife-tour-bookings/the-ultim
 ate-orkney-shetland-wildlife-tour-27-april-2019/
SUMMARY:The Ultimate Orkney Shetland Wildlife Tour 27 April 2019
DESCRIPTION:The archipelago of Orkney forms a complex jigsaw of land and wa
 ter. Her fertility gives rise to a wealth of wildlife particularly birds. 
 Red-throated Divers on the small lochans\, Hen Harriers and Short-eared Ow
 ls on the moors and an abundance of seabirds and seaduck around the pristi
 ne coastline. By popular demand we bring you this very popular Ultimate Or
 kney holiday\, which visits the Mainland of Orkney\, Hoy\, Shapinsay and S
 outh Ronaldsay. Three major archaeological sites are also visited: the Rin
 g of Brodgar\, Skara Brae and the Tomb of the Eagles. I lead this tour on 
 behalf of my friends and colleagues in Shetland Wildlife. To book visit th
 eir Shetland Wildlife page. This tour has an Aberdeen departure point\, co
 st £1\,595. THIS TOUR IS NOW FULL.
END:VEVENT
END:VCALENDAR