BEGIN:VCALENDAR
VERSION:2.0
PRODID:-//wp-events-plugin.com//7.2.3.1//EN
BEGIN:VEVENT
UID:67@orcadianwildlife.co.uk
DTSTART;VALUE=DATE:20180421
DTEND;VALUE=DATE:20180429
DTSTAMP:20170923T065242Z
URL:https://orcadianwildlife.co.uk/wPress/wildlife-tour-bookings/the-orkne
 y-spring-wildlife-archaeology-tour/
SUMMARY:THE ORKNEY SPRING: WILDLIFE & ARCHAEOLOGY TOUR
DESCRIPTION:After 15 years of operation in Orkney\, our wildlife and cultur
 e tours have been finely honed to blend Orkney’s natural history with it
 s Neolithic\, Pictish and Viking sites. The good news is that all the arch
 aeological sites are in stunning natural settings\, and one is even an RSP
 B nature reserve! Imagine the sounds of skylarks\, and displaying curlews 
 and lapwings as you’re wandering around the Ring of Brodgar. In late Apr
 il\, expect to see returning seabirds such as auks and gannets\; and our w
 inter wildfowl such as great-northern divers and long-tailed ducks in supe
 rb summer plumage. Our speciality raptor\, the hen harrier\, should be dis
 playing or 'sky-dancing' at this time of the year\, a truly memorable sigh
 t. Three islands are visited: Hoy\, Shapinsay and South Ronaldsay\, and tw
 o days are spent on the Orkney Mainland. A ‘free day’ enables you to v
 isit Kirkwall\, and its cathedral and museum\, or else wander around your 
 hotel looking for other special birds and plants. Accommodation is provide
 d by the 4* Sands Hotel in Burray (www.thesandshotel.co.uk)\, and transpor
 t is by means of our 9 seater minibus. Tour size is usually restricted to 
 a maximum of 6 so that you are guaranteed lots of individual attention. Pl
 ease click here to book. Cost £1\,395. THIS TOUR IS NOW FULL.
END:VEVENT
END:VCALENDAR