BEGIN:VCALENDAR
VERSION:2.0
PRODID:-//wp-events-plugin.com//7.2.3.1//EN
BEGIN:VEVENT
UID:87@orcadianwildlife.co.uk
DTSTART;VALUE=DATE:20211017
DTEND;VALUE=DATE:20211031
DTSTAMP:20201018T101050Z
URL:https://orcadianwildlife.co.uk/wPress/wildlife-tour-bookings/the-falkl
 and-islands-beachmaster-tour-25-october-7-november-2020/
SUMMARY:The Falkland Islands Beachmaster Tour: 17 October - 30 October 2021
DESCRIPTION:After two successful tours to date in 2017 and 2019\, a third '
 Beachmaster Tour' is being planned for the Austral Spring of 2021. The rea
 son for this is simple: Elephant Seals are sorting out their territories f
 or breeding on the beaches\, and we'd like to witness this astonishing act
 ion whereby 4 tonne + 'Beachmasters'\, the alpha males\, play hardball wit
 h each other! Several species of penguin\, and Black-browed Albatrosses ar
 e also returning to their breeding grounds with their wonderful and touchi
 ng courtship rituals. It's just a great time of the year to be there!\n\nT
 he Falkland Islands is an archipelago of some 750 islands lying at 52°S i
 n the South Atlantic\, some 350 miles NE of Tierra del Fuego. With a popul
 ation of around 3\,000 it is a self-governing independent Overseas Territo
 ry of the UK. It is an island paradise\, where the wildlife comes to you\,
  and that’s one of the main reasons why we visit! In some ways it is rem
 arkably similar to Orkney: friendly locals\, a windswept\, treeless landsc
 ape\, with great scenery and sea-scapes\, big skies\, and lots of wildlife
 .\n\nBookings are now being taken for this Beachmaster Tour. The final iti
 nerary will be confirmed in August 2019 and will include several islands a
 s well as the capital\, Stanley. Further details and a Tour Report may be 
 found by clicking here. Maximum tour size 7 plus guide. Price guide c £4\
 ,500 ex-flights. THIS TOUR IS NOW FULL.
END:VEVENT
END:VCALENDAR