BEGIN:VCALENDAR
VERSION:2.0
PRODID:-//wp-events-plugin.com//7.2.3.1//EN
BEGIN:VEVENT
UID:46@orcadianwildlife.co.uk
DTSTART;VALUE=DATE:20160514
DTEND;VALUE=DATE:20160522
DTSTAMP:20150806T181056Z
URL:https://orcadianwildlife.co.uk/wPress/wildlife-tour-bookings/southern-
 andalucia-the-rufous-bush-robin-tour/
SUMMARY:Southern Andalucía: the Rufous Bush Robin Tour
DESCRIPTION:The Rufous Bush Robin Tour: Southern Andalucía Saturday 14 May
  – Saturday 21 May – tour leaders Sami\, Sarah and Steve Sankey. Over 
 the years we have developed a love for the south of Spain and its birds\, 
 and\, using Spanish guides and select accommodation\, we always see lots o
 f raptors and wetland birds\, in our centres at Doñana and the Sierra de 
 Grazalema. This year our assistant tour guide Sami is anxious to see rufou
 s bush robins as they arrive (we are going slightly later in the year) and
  so we will be looking carefully in the coasts and mountains for this aloo
 f and totemic species of the south. Expect to see about 120+ species of bi
 rds. Accommodation is at a rural cortijo near Ronda see www.cortijolaspile
 tas.com and in a pleasant rural hotel near Doñana National Park see www.a
 rdeapurpurea.com  The meeting point is Málaga International Airport. P
 rice £1\,200 per person. THIS TOUR IS NOW FULL.
END:VEVENT
END:VCALENDAR