BEGIN:VCALENDAR
VERSION:2.0
PRODID:-//wp-events-plugin.com//7.2.3.1//EN
BEGIN:VEVENT
UID:53@orcadianwildlife.co.uk
DTSTART;VALUE=DATE:20160704
DTEND;VALUE=DATE:20160712
DTSTAMP:20151011T074710Z
URL:https://orcadianwildlife.co.uk/wPress/wildlife-tour-bookings/shetland-
 tour-2/
SUMMARY:Shetland Tour
DESCRIPTION:Orcadian Wildlife Shetland Tour starting Monday 4 July – Mond
 ay 11 July 2016 – tour leader Steve Sankey. This tour will spend 3 days 
 exploring the South and West Mainland of Shetland\; followed by 4 nights o
 n Unst\, also visiting the islands of Fetlar and Yell. Expect to see aroun
 d 60+ species of birds\, but some memorable sights and scenery including s
 torm petrels by night at Mousa broch\; seabirds in abundance (especially p
 uffins and gannets!)\; and the amazing settlement of Jarlshof. Otters are 
 another star attraction\, and also perhaps red-necked phalaropes on Fetlar
 . Accommodation is provided in part by local Shetlanders\; and at the Balt
 asound Hotel on Unst see www.baltasoundhotel.co.uk  THIS TOUR IS NOW FULL
 .\n\nThe meeting point is either Lerwick harbour or Sumburgh airport. Pric
 e £1\,150 per person. 
END:VEVENT
END:VCALENDAR