BEGIN:VCALENDAR
VERSION:2.0
PRODID:-//wp-events-plugin.com//7.2.3.1//EN
BEGIN:VEVENT
UID:89@orcadianwildlife.co.uk
DTSTART;VALUE=DATE:20220528
DTEND;VALUE=DATE:20220605
DTSTAMP:20220118T171512Z
URL:https://orcadianwildlife.co.uk/wPress/wildlife-tour-bookings/orkney-wi
 ldlife-culture-tour-23-30-may-2020/
SUMMARY:Orkney Wildlife & Culture Tour: 28 May - 4 June 2022
DESCRIPTION:Our ‘traditional’ Orkney Wildlife and Culture tours have be
 en running successfully for 18 years\, and include the best of Orkney’s 
 wildlife and history. We visit the 3 islands of Hoy (nesting Eagles and th
 e Old Man)\; South Ronaldsay (nesting Little Terns and Hoxa Head)\; and We
 stray (Gannets and everyone’s favourite\, Puffins!). Many RSPB Reserves 
 are visited both on the Orkney Mainland and the islands. We also spend a c
 ouple of days on the Orkney Mainland\, and you will have one day to yourse
 lves\, perhaps to explore Kirkwall or take local walks from your comfortab
 le family-run hotel (www.merkister.com). Sites of archaeological interest 
 visited include the Ring of Brodgar and Skara Brae.\n\nIn early June you c
 an expect to see around 90 or so species of birds\, including early in the
  month a few late-departing winter visitors as they prepare to leave for I
 celand and further north – birds such as Great Northern Divers and Long-
 tailed Ducks&nbsp\;– which will all be in their superb breeding plumage.
  Out to sea or else on Scapa Flow you may encounter several cetacean speci
 es – including Orca – but an element of luck and a good sea state is r
 equired for finding and observing whales and dolphins. Our Orkney speciali
 ty\, the Hen Harrier\, will be seen hopefully at close quarters\, perhaps&
 nbsp\; by passing food to its mate.\n\nTour size is usually restricted to 
 5 total so that you are guaranteed lots of individual attention. Transport
  is by means of our 7 seater electric vehicle and everyone will have a win
 dow seat. Each week is different and depends partly on the weather and par
 tly on chance: we wouldn’t have it any other way! Please click on the ti
 tle to book. Cost £1\,750 per person\, please note that a single suppleme
 nt is payable. This tour is now FULL.
END:VEVENT
END:VCALENDAR