BEGIN:VCALENDAR
VERSION:2.0
PRODID:-//wp-events-plugin.com//7.2.3.1//EN
BEGIN:VEVENT
UID:57@orcadianwildlife.co.uk
DTSTART:20170610T000000Z
DTEND:20170617T000000Z
DTSTAMP:20161101T163638Z
URL:https://orcadianwildlife.co.uk/wPress/wildlife-tour-bookings/orkney-wi
 ldlife-archaeology-tour/
SUMMARY:Orkney Wildlife & Archaeology Tour
DESCRIPTION:Wildlife &amp\; Archaeology Tour starting Saturday 10 June 201
 7 - Saturday 17 June 2017: tour leader Steve Sankey. This tour will visit
  the islands of Hoy\, South Ronaldsay and Westray\; and will visit the mai
 n archaeological sites of the Ring of Brodgar\, Skara Brae and the Tomb of
  the Eagles. Expect to see several RSPB reserves\, and around 80 species o
 f birds\, including our seabirds (puffins\, gannets\, auks\, terns and sku
 as)\, birds of prey (sea eagle and hen harriers especially) and any spring
  migrants. Cetaceans are also a possibility during the months of May\, Jun
 e &amp\; July (orcas\, minke whales\, porpoises and dolphins). Accommodati
 on will be provided in the 4* Sands Hotel in Burray\, a converted herring
  packing station\, overlooking Water Sound and part of Scapa Flow. See ww
 w.thesandshotel.co.uk THIS TOUR IS NOW FULL.
END:VEVENT
END:VCALENDAR