BEGIN:VCALENDAR
VERSION:2.0
PRODID:-//wp-events-plugin.com//7.2.3.1//EN
BEGIN:VEVENT
UID:70@orcadianwildlife.co.uk
DTSTART:20180512T000000Z
DTEND:20180519T000000Z
DTSTAMP:20180107T170132Z
URL:https://orcadianwildlife.co.uk/wPress/wildlife-tour-bookings/orkney-wi
 ldlife-archaeology-tour-2/
SUMMARY:ORKNEY WILDLIFE & ARCHAEOLOGY TOUR
DESCRIPTION:After 15 years of operation in Orkney\, our wildlife and cultur
 e tours have been finely honed to blend Orkney’s natural history with it
 s Neolithic\, Pictish and Viking sites. The good news is that all the arch
 aeological sites are in stunning natural settings\, and one is even an RSP
 B nature reserve! Imagine the sounds of skylarks\, curlews and lapwings as
  you’re wandering around the Ring of Brodgar. Expect to see seabirds suc
 h as puffins and gannets\; and raptors such as our speciality bird\, the h
 en harrier. Three islands are visited: Hoy\, South Ronaldsay and Westray\,
  and two days are spent on the Orkney Mainland. A ‘free day’ enables y
 ou to visit Kirkwall\, and its cathedral and museum\, or else wander aroun
 d your hotel looking for the most northerly little tern colony in the UK a
 nd other special birds and plants. Accommodation is provided by the 4* San
 ds Hotel in Burray (www.thesandshotel.co.uk)\, and transport is by means o
 f our 9 seater minibus. Tour size is usually restricted to a maximum of 6 
 so that you are guaranteed lots of individual attention. Please click here
  to book. Cost £1\,395. THIS TOUR IS NOW FULL.
END:VEVENT
END:VCALENDAR