BEGIN:VCALENDAR
VERSION:2.0
PRODID:-//wp-events-plugin.com//7.2.3.1//EN
BEGIN:VEVENT
UID:41@orcadianwildlife.co.uk
DTSTART;VALUE=DATE:20150523
DTEND;VALUE=DATE:20150531
DTSTAMP:20150516T183738Z
URL:https://orcadianwildlife.co.uk/wPress/wildlife-tour-bookings/orkney-wi
 ldlife-archaeology-folk-festival-special/
SUMMARY:Orkney Wildlife & Archaeology: Folk Festival Special
DESCRIPTION:Wildlife &amp\; Archaeology Tour Folk Festival Special starting
  Saturday 23 - 30 May 2015 – tour leader Steve Sankey.  As it's the Ork
 ney Folk Festival Weekend\, we will offer optional visits to the major Ork
 ney Folk Festival Events as part of this week's itinerary. This tour will 
 also visit the islands of Hoy\, South Ronaldsay and Westray\; and will vis
 it the main archaeological sites of the Ring of Brodgar\, Skara Brae and t
 he Tomb of the Eagles. Expect to see around 90 species of birds\, includin
 g our seabirds\, birds of prey (hen harriers especially) and any summer ar
 rivals. Cetaceans are also a possibility during the month of May (orcas\, 
 minke whales\, porpoises and dolphins). Accommodation will be provided by 
 the Georgian Manse of Pentland Country House in the East Mainland of Orkne
 y\, overlooking the Churchill Barriers and Scapa Flow. See www.pentlandco
 untryhouse.co.uk . Last-minute special offer £995 per person!
END:VEVENT
END:VCALENDAR