BEGIN:VCALENDAR
VERSION:2.0
PRODID:-//wp-events-plugin.com//7.2.3.1//EN
BEGIN:VEVENT
UID:54@orcadianwildlife.co.uk
DTSTART:20170506T000000Z
DTEND:20170513T000000Z
DTSTAMP:20170117T172104Z
URL:https://orcadianwildlife.co.uk/wPress/wildlife-tour-bookings/orkney-wi
 ldlife-and-archaeology-tour/
SUMMARY:Orkney Wildlife and Archaeology Tour
DESCRIPTION:Wildlife &amp\; Archaeology Tour starting Saturday 6 May 2017 -
  Saturday 13 May 2017: tour leader Steve Sankey. This tour will visit the
  islands of Hoy\, South Ronaldsay and Westray\; and will visit the main ar
 chaeological sites of the Ring of Brodgar\, Skara Brae and the Tomb of the
  Eagles. Expect to see several RSPB reserves\, and around 90 species of bi
 rds\, including our seabirds (puffins\, gannets\, auks\, terns and skuas)\
 ; birds of prey (sea eagle and hen harriers especially)\; and any spring m
 igrants. Cetaceans are also a possibility during the months of May\, June 
 &amp\; July (orcas\, minke whales\, porpoises and dolphins). Accommodation
  will be provided in the 4* Sands Hotel in Burray\, a converted herring p
 acking station\, overlooking Water Sound and part of Scapa Flow. See www.t
 hesandshotel.co.uk THIS TOUR IS NOW FULL.
END:VEVENT
END:VCALENDAR