BEGIN:VCALENDAR
VERSION:2.0
PRODID:-//wp-events-plugin.com//7.2.3.1//EN
BEGIN:VEVENT
UID:55@orcadianwildlife.co.uk
DTSTART:20170513T000000Z
DTEND:20170520T000000Z
DTSTAMP:20161124T102039Z
URL:https://orcadianwildlife.co.uk/wPress/wildlife-tour-bookings/orkney-wi
 ldlife-and-archaeology-tour-2/
SUMMARY:Orkney Wildlife and Archaeology Tour
DESCRIPTION:Wildlife &amp\; Archaeology Tour starting Saturday 13 May 2017
  - Saturday 20 May 2017: tour leader Steve Sankey. This tour will visit 
 the islands of Hoy\, South Ronaldsay and Westray\; and will visit the main
  archaeological sites of the Ring of Brodgar\, Skara Brae and the Tomb of 
 the Eagles. Expect to see several RSPB reserves\, and around 90 species of
  birds\, including our seabirds (puffins\, gannets\, auks\, terns and skua
 s)\, birds of prey (sea eagle and hen harriers especially) and any spring 
 migrants. Cetaceans are also a possibility during the months of May\, June
  &amp\; July (orcas\, minke whales\, porpoises and dolphins). Accommodatio
 n will be provided in the 4* Sands Hotel in Burray\, a converted herring 
 packing station\, overlooking Water Sound and part of Scapa Flow. See www
 .thesandshotel.co.uk  THIS TOUR IS NOW FULL.
END:VEVENT
END:VCALENDAR