BEGIN:VCALENDAR
VERSION:2.0
PRODID:-//wp-events-plugin.com//7.2.3.1//EN
BEGIN:VEVENT
UID:51@orcadianwildlife.co.uk
DTSTART;VALUE=DATE:20160618
DTEND;VALUE=DATE:20160626
DTSTAMP:20160122T144354Z
URL:https://orcadianwildlife.co.uk/wPress/wildlife-tour-bookings/orkney-ar
 chaeology-wildlife-tour-7/
SUMMARY:Orkney Archaeology & Wildlife Tour
DESCRIPTION:Wildlife &amp\; Archaeology Tour starting Saturday 18 June - Sa
 turday 25 June 2016 – tour leader Steve Sankey. This tour will visit the
  islands of Hoy\, South Ronaldsay and Westray\; and will visit the main ar
 chaeological sites of the Ring of Brodgar\, Skara Brae and the Tomb of the
  Eagles. Expect to see around 90 species of birds\, including our seabirds
 \, birds of prey (sea eagle and hen harriers especially) and any spring mi
 grants. Cetaceans are also a possibility during the month of June (orcas\,
  minke whales\, porpoises and dolphins). Accommodation will be provided in
  the Georgian Manse of Pentland View in the East Mainland of Orkney\, ove
 rlooking the Churchill Barriers and Scapa Flow. See www.orkneyunlimited.c
 om .
END:VEVENT
END:VCALENDAR