BEGIN:VCALENDAR
VERSION:2.0
PRODID:-//wp-events-plugin.com//7.2.3.1//EN
BEGIN:VEVENT
UID:48@orcadianwildlife.co.uk
DTSTART;VALUE=DATE:20160528
DTEND;VALUE=DATE:20160605
DTSTAMP:20160122T144120Z
URL:https://orcadianwildlife.co.uk/wPress/wildlife-tour-bookings/orkney-ar
 chaeology-wildlife-tour-4/
SUMMARY:Orkney Archaeology & Wildlife Tour
DESCRIPTION:Wildlife &amp\; Archaeology Tour starting Saturday 28 May – S
 aturday 4 June 2016 – tour leader Steve Sankey. This tour will visit th
 e islands of Hoy\, South Ronaldsay and Westray\; and will visit the main a
 rchaeological sites of the Ring of Brodgar\, Skara Brae and the Tomb of th
 e Eagles. Expect to see around 90 species of birds\, including our seabird
 s\, birds of prey (sea eagle and hen harriers especially) and any spring m
 igrants. Cetaceans are also a possibility during the months of May &amp\; 
 June (orcas\, minke whales\, porpoises and dolphins). Accommodation will b
 e provided in the Georgian Manse of Pentland View in the East Mainland of
  Orkney\, overlooking the Churchill Barriers and Scapa Flow. See www.orkn
 eyunlimited.com .
END:VEVENT
END:VCALENDAR