BEGIN:VCALENDAR
VERSION:2.0
PRODID:-//wp-events-plugin.com//7.2.3.1//EN
BEGIN:VEVENT
UID:47@orcadianwildlife.co.uk
DTSTART;VALUE=DATE:20160521
DTEND;VALUE=DATE:20160529
DTSTAMP:20160122T143948Z
URL:https://orcadianwildlife.co.uk/wPress/wildlife-tour-bookings/orkney-ar
 chaeology-wildlife-tour-3/
SUMMARY:Orkney Archaeology & Wildlife Tour
DESCRIPTION:Wildlife &amp\; Archaeology Tour starting Saturday 21 May – S
 aturday 28 May 2016 – tour leader Steve Sankey. This tour will visit the
  islands of Hoy\, South Ronaldsay and Westray\; and will visit the main ar
 chaeological sites of the Ring of Brodgar\, Skara Brae and the Tomb of the
  Eagles. Expect to see around 90 species of birds\, including our seabirds
 \, birds of prey (sea eagle and hen harriers especially) and any spring mi
 grants. Cetaceans are also a possibility during the month of May (orcas\, 
 minke whales\, porpoises and dolphins). Accommodation will be provided in 
 the Georgian Manse of Pentland View in the East Mainland of Orkney\, over
 looking the Churchill Barriers and Scapa Flow. See www.orkneyunlimited.co
 m . THIS TOUR IS NOW FULL.
END:VEVENT
END:VCALENDAR