BEGIN:VCALENDAR
VERSION:2.0
PRODID:-//wp-events-plugin.com//7.2.3.1//EN
BEGIN:VEVENT
UID:43@orcadianwildlife.co.uk
DTSTART;VALUE=DATE:20160423
DTEND;VALUE=DATE:20160501
DTSTAMP:20160203T140157Z
URL:https://orcadianwildlife.co.uk/wPress/wildlife-tour-bookings/orkney-ar
 chaeology-wildlife-tour-2/
SUMMARY:Art and Wildlife Week
DESCRIPTION:Art &amp\; Wildlife Week Tour starting Saturday 23 April – S
 aturday 30 April 2016 tour leader Steve Sankey and artist-in-residence Lo
 uise Scott. Orcadian Wildlife is pleased to be working in partnership with
  Louise Scott\, one of Scotland’s leading wildlife artists and has put t
 ogether a wildlife art week for persons interested in the combination of w
 ildlife and art. Half of the week (3 days) would involve 3 days exploring 
 Orkney with Steve Sankey of Orcadian Wildlife: expect to see seabirds\; bi
 rds of prey (especially hen harriers)\; long-tailed duck and great-norther
 n divers in stunning summer plumage\; wild flowers\; and seals – and of 
 course Orkney’s famous 5\,000 year old Neolithic monuments such as Skara
  Brae and the Ring of Brodgar. The other half of the week (3 days) would b
 e spent with your artist-in-residence\, Louise Scott\, as she teaches you 
 the basics of etching using real-life wildlife seen on site. Special 'earl
 y season' price of £995 per person. Accommodation will be provided in the
  Georgian Manse of Pentland View in the East Mainland of Orkney\, overloo
 king the Churchill Barriers and Scapa Flow. See www.orkneyunlimited.com T
 HIS TOUR IS NOW FULL.\n\nFor further details and photographs see: http://o
 rcadianwildlife.co.uk/art-and-wildlife-week-23-30-april-2016/
END:VEVENT
END:VCALENDAR