BEGIN:VCALENDAR
VERSION:2.0
PRODID:-//wp-events-plugin.com//7.2.3.1//EN
BEGIN:VEVENT
UID:73@orcadianwildlife.co.uk
DTSTART:20180608T000000Z
DTEND:20180615T000000Z
DTSTAMP:20171127T204127Z
URL:https://orcadianwildlife.co.uk/wPress/wildlife-tour-bookings/northern-
 isles-photography-week/
SUMMARY:NORTHERN ISLES PHOTOGRAPHY WEEK
DESCRIPTION:After 15 years of operation in Orkney and Shetland\, we’re pl
 eased to offer our very first joint Orkney and Shetland\, Northern Isles t
 our. This tour is aimed at amateur photographers of any level who wish to 
 develop or hone their skills photographing the wildlife\, land and seascap
 es\, and cultural sites of both Shetland and Orkney. We’ll spend 4 days 
 each in Shetland and Orkney\, visiting several islands\, National Nature R
 eserves and RSPB reserves as we enjoy a variety of subjects to test our sk
 ills. Expect close-ups of gannets\, great skuas\, puffins and rare flowers
 \, and seascapes to take your breath away. A ‘free day’ enables you to
  visit Kirkwall\, and its cathedral and museum\, or else wander around you
 r hotel looking for our special birds and plants. Accommodation is provide
 d by the Busta House Hotel on Muckle Roe in Shetland (www.bustahouse.com)\
 ; and the 4* Sands Hotel in Burray in Orkney (www.thesandshotel.co.uk). Tr
 ansport is by means of our 9 seater minibus. Tour size is usually restrict
 ed to a maximum of 6 so that you are guaranteed lots of individual attenti
 on. A similar tour is being run in 2019 please enquire here for details. C
 ost £1\,395. THIS TOUR IS NOW FULL.
END:VEVENT
END:VCALENDAR