BEGIN:VCALENDAR
VERSION:2.0
PRODID:-//wp-events-plugin.com//7.2.3.1//EN
BEGIN:VEVENT
UID:60@orcadianwildlife.co.uk
DTSTART:20170703T000000Z
DTEND:20170710T000000Z
DTSTAMP:20160926T145855Z
URL:https://orcadianwildlife.co.uk/wPress/wildlife-tour-bookings/iceland-t
 our-2/
SUMMARY:Iceland Tour
DESCRIPTION:Orcadian Wildlife Iceland Tour Monday 3 July 2017 - Monday 10 J
 uly 2017: tour leader Steve Sankey. The cultural and biological connection
 s between Orkney and Iceland are strong which is why several years ago we 
 began our tours to Iceland. The Orkneyinga Saga\, for example\, a ripping 
 yarn about the Orkney Viking Earls was written in Iceland. Our wintering g
 reat northern divers\, Slavonian grebes\, long-tailed ducks\, pink-feet an
 d greylag geese\, and redwing all breed in Iceland. Our 2017 tour will vis
 it the spectacular west\, north and southern Iceland\, visiting such sites
  as Snæfellsnes\, Akureyri\, Mývatn\, Gullfoss and DyrhÓlaey. Iceland's
  avifauna is not extensive\, but includes some unforgettable birds such as
  Barrow's goldeneye\, harlequin duck\, red-necked phalarope (at extremely 
 close quarters!)\, Brunnich's guillemot\, sea eagle and gyr falcon. A hal
 f-day whale-watching tour is included off Snæfellsnes where we hope to se
 e sperm whale and orca. Accommodation is in 3 separate locations. For a de
 tailed itinerary please enquire here. For further details and pictures of 
 previous Iceland trips click here. Cost £1\,995 per person (excludes flig
 ht). Single supplement £200. Meeting Point: Keflavik International Airpor
 t. THIS TOUR IS NOW FULL.
END:VEVENT
END:VCALENDAR