BEGIN:VCALENDAR
VERSION:2.0
PRODID:-//wp-events-plugin.com//7.2.3.1//EN
BEGIN:VEVENT
UID:91@orcadianwildlife.co.uk
DTSTART;VALUE=DATE:20220610
DTEND;VALUE=DATE:20220621
DTSTAMP:20220118T171916Z
URL:https://orcadianwildlife.co.uk/wPress/wildlife-tour-bookings/from-bulg
 aria-to-romania-rhodopes-black-sea-danube-transylvania-29-may-7-june-2021/
SUMMARY:From Bulgaria to Romania: Rhodopes\, Black Sea\, Danube & Transylva
 nia 10-20 June 2022
DESCRIPTION:Orcadian Wildlife is pleased to offer a new tour for 2022: Bulg
 aria &amp\; Romania – two Balkan states where west meets east. We meet a
 nd begin in the Bulgarian capital\, Sofia\, then continue eastwards into t
 he Rhodopes Mountains and onwards to the Black Sea Coast. We then travel f
 urther north and east into Romania\, for 3 nights on the Danube (Danarii) 
 delta\, followed by two nights in the Carpathian mountains of Transylvania
 \, ending our tour in the Romanian capital\, Bucharest.\n\nThe birds and m
 ammals on this tour will feature some totemic species\, including Lesser-s
 potted eagles\, Red-footed falcons and Egyptian vultures\; or else wetland
  birds such as Dalmatian &amp\; White Pelicans and Collared Pratincoles.\n
 \nRaptors and wetland birds will feature prominently\, and we also take ca
 re to absorb the culture of this fascinating countries\, visiting ancient 
 mountain and delta villages. Accommodation is either in modern hotels\, or
  traditional family-owned villas with thatched rooves. We will be using kn
 owledgeable local guides in association with our partners in Bulgaria: Wil
 d Echo\; and in Romania Absolute Carpathian.\n\nExpect to see 150+ species
  of birds\, Brown Bears\, and as rich a biodiversity as you will find anyw
 here in Europe. Spring in Eastern Europe is beautiful! For pictures see:\n
 \nwww.facebook.com/orcadianwildlife/photos/?tab=album&amp\;album_id=100306
 3829774798 (Bulgaria)\nwww.facebook.com/pg/orcadianwildlife/photos/?tab=al
 bum&amp\;album_id=2282113485203153 (Danube)\nwww.facebook.com/pg/orcadianw
 ildlife/photos/?tab=album&amp\;album_id=2281586591922509 (Transylvania)\n\
 nA 10 night tour\, cost £2\,295 ex-flights. ONLY 1 SPACE REMAINING!
END:VEVENT
END:VCALENDAR