BEGIN:VCALENDAR
VERSION:2.0
PRODID:-//wp-events-plugin.com//7.2.3.1//EN
BEGIN:VEVENT
UID:61@orcadianwildlife.co.uk
DTSTART:20170421T000000Z
DTEND:20170428T000000Z
DTSTAMP:20161013T145006Z
URL:https://orcadianwildlife.co.uk/wPress/wildlife-tour-bookings/bulgarian
 -tour/
SUMMARY:Bulgarian Tour
DESCRIPTION:Orcadian Wildlife is pleased to offer a new venue\, our Bulgari
 an Tour Friday 21 April  2017 - Friday 28 April 2017 (7 nights): tour l
 eader Steve Sankey. The biodiversity of Bulgaria is the finest that we hav
 e ever experienced in Europe\, and guests who like raptors and wetland bir
 ds will not be disappointed. This tour stretches from the forests and moun
 tains of Central Bulgaria to the Black Sea coast\, and we hope to see such
  spectacular birds as hazel grouse and wallcreeper in the mountains and fo
 rests\; and Dalmatian pelicans and pygmy cormorants on the coast. We will 
 be using knowledgeable local guides in association with our partner in Bul
 garia: Wild Echo. Accommodation is provided in 4 locations. For a fuller i
 tinerary please click here. For detailed enquiries please click Bulgarian 
 Enquiry. Cost £1\,300 per person (excludes flight). Single supplement £1
 05. Meeting point: Plovdiv International Airport. Joining in Sofia is also
  an option. THIS TOUR IS NOW FULL.
END:VEVENT
END:VCALENDAR