BEGIN:VCALENDAR
VERSION:2.0
PRODID:-//wp-events-plugin.com//7.2.3.1//EN
BEGIN:VEVENT
UID:83@orcadianwildlife.co.uk
DTSTART:20190624T000000Z
DTEND:20190701T000000Z
DTSTAMP:20180629T173636Z
URL:https://orcadianwildlife.co.uk/wPress/wildlife-tour-bookings/60-%cc%8a
 -n-shetland-24-june-1-july-2019/
SUMMARY:60 ̊ N Shetland 24 June - 1 July 2019
DESCRIPTION:Steve has been visiting Orkney’s close neighbour Shetland for
  40 years and knows the islands extremely well. This tour takes in many of
  the South Shetland bird sites: Noss NNR and Sumburgh Head for seabirds\, 
 especially puffins and gannets\; and an unforgettable evening trip to Mous
 a to see the storm petrel colony at the spectacular Pictish broch. Whilst 
 on the Mainland we also visit the black volcanic scenery of Papa Stour (St
 eve’s favourite Shetland island!) and Eshaness\, and search for otters i
 n some favourite spots. Lerwick with its fine museum is also visited. Acco
 mmodation is provided by the Busta House Hotel – see www.bustahouse.com\
 n\nThen we move further north still\, to our base on Unst\, the northernmo
 st part of the UK. Here we visit 3 more islands: Fetlar (for red-necked ph
 alaropes and whimbrel)\; Unst (for bonxies\, puffins and gannets at Herman
 ess NNR\, and rare flowers at the Keen o’Hamar NNR)\; and Yell for its b
 eautiful coastal scenery. Accommodation is provided by the Baltasound Hote
 l – see www.baltasoundhotel.co.uk\n\nTransport is by means of our 9 seat
 er minibus. Tour size is usually restricted to a maximum of 6 so that you 
 are guaranteed lots of individual attention. Please click here to book. Co
 st £1\,450 but the ‘Early Bird’ offer of £1\,395 is available\, see 
 above. THIS TOUR IS NOW FULL.
END:VEVENT
END:VCALENDAR