BEGIN:VCALENDAR
VERSION:2.0
PRODID:-//wp-events-plugin.com//7.2.3.1//EN
BEGIN:VEVENT
UID:52@orcadianwildlife.co.uk
DTSTART;VALUE=DATE:20160625
DTEND;VALUE=DATE:20160703
DTSTAMP:20160122T144444Z
URL:https://orcadianwildlife.co.uk/wPress/wildlife-tour-bookings/1248/
SUMMARY:Orkney Archaeology & Wildlife Tour
DESCRIPTION:Wildlife &amp\; Archaeology Tour starting Saturday 25 June - Sa
 turday 2 July 2016 – tour leader Steve Sankey. This tour will visit the 
 islands of Hoy\, South Ronaldsay and Westray\; and will visit the main arc
 haeological sites of the Ring of Brodgar\, Skara Brae and the Tomb of the 
 Eagles. Expect to see around 90 species of birds\, including our seabirds\
 , birds of prey (sea eagle and hen harriers especially) and any spring mig
 rants. Cetaceans are also a possibility during the months of June &amp\; J
 uly (orcas\, minke whales\, porpoises and dolphins). Accommodation will be
  provided in the Georgian Manse of Pentland View in the East Mainland of 
 Orkney\, overlooking the Churchill Barriers and Scapa Flow. See www.orkne
 yunlimited.com . THIS TOUR IS NOW FULL.
END:VEVENT
END:VCALENDAR