BEGIN:VCALENDAR
VERSION:2.0
PRODID:-//wp-events-plugin.com//7.2.3.1//EN
BEGIN:VEVENT
UID:45@orcadianwildlife.co.uk
DTSTART;VALUE=DATE:20160507
DTEND;VALUE=DATE:20160515
DTSTAMP:20160203T140323Z
URL:https://orcadianwildlife.co.uk/wPress/wildlife-tour-bookings/1238/
SUMMARY:Orkney Archaeology & Wildlife Tour
DESCRIPTION:Wildlife &amp\; Archaeology Tour starting Saturday 7 May – Sa
 turday 14 May 2016 – tour leader Steve Sankey. This tour will visit the 
 islands of Hoy\, South Ronaldsay and Westray\; and will visit the main arc
 haeological sites of the Ring of Brodgar\, Skara Brae and the Tomb of the 
 Eagles. Expect to see around 90 species of birds\, including our seabirds\
 , birds of prey (sea eagle and hen harriers especially) and any spring mig
 rants. Cetaceans are also a possibility during the month of May (orcas\, m
 inke whales\, porpoises and dolphins). Accommodation will be provided in t
 he Georgian Manse of Pentland View in the East Mainland of Orkney\, overl
 ooking the Churchill Barriers and Scapa Flow. See www.orkneyunlimited.com.
  THIS TOUR IS NOW FULL.
END:VEVENT
END:VCALENDAR